BEGIN:VCALENDAR
VERSION:2.0
PRODID:-//Pro Loco Airola - ECPv6.11.0.1//NONSGML v1.0//EN
CALSCALE:GREGORIAN
METHOD:PUBLISH
X-WR-CALNAME:Pro Loco Airola
X-ORIGINAL-URL:https://www.prolocoairola.org
X-WR-CALDESC:Eventi per Pro Loco Airola
REFRESH-INTERVAL;VALUE=DURATION:PT1H
X-Robots-Tag:noindex
X-PUBLISHED-TTL:PT1H
BEGIN:VTIMEZONE
TZID:UTC
BEGIN:STANDARD
TZOFFSETFROM:+0000
TZOFFSETTO:+0000
TZNAME:UTC
DTSTART:20160101T000000
END:STANDARD
END:VTIMEZONE
BEGIN:VEVENT
DTSTART;TZID=UTC:20161216T170000
DTEND;TZID=UTC:20161218T220000
DTSTAMP:20260419T185529
CREATED:20161223T164542Z
LAST-MODIFIED:20161223T164542Z
UID:516-1481907600-1482098400@www.prolocoairola.org
SUMMARY:ADVENTUM 2016 - Galleria fotografica
DESCRIPTION:III Edizione “Adventum – Villaggio di Natale” (borghi di San Giovanni\, San Domenico e San Donato) – 16/17/18 dicembre 2016.                                                                                                                                                                                                                                                                                                                                                                                                                                                                                                                                                                                                                                                                                                                                                                                                                                                                                                                                                                                                                                                                                                                                                                                                                                                                                                                                                                                                                                                                                                                                                                                                                                                                                                                                                                                                                                                                                                                                                                                                                                                                                                                                                                                                                                                                                                                                                                                                                                                                                                                                                                                                                                                                                                                                                                                                                                                                                                                                                                                                                                                                                                                                                                                                                                                                                                                                                                                                                                                                                                                                                                                                                                                                                                                                                                                                                                                                                                                                                                                                                                                                                                                                                                                                                                                                                                                                                                                                                                                                                                                                                                                                                                                                                                                                                                                                                                                                                                                                                                                                                                                                                                                                                                                                                                                                                                                                                                                                                                                                                                                                                                                                                                                                                                                                                                                                                                                                                                                                                                                                                                                                                                                                                                                                                                                                                                                                                                                                                                                                                                                                                                                                                                         «              ‹              																										di																					4																	                              ›                »
URL:https://www.prolocoairola.org/event/adventum-2016-galleria-fotografica/
CATEGORIES:Eventi Pro Loco
ATTACH;FMTTYPE=image/jpeg:https://www.prolocoairola.org/wp-content/uploads/2016/12/10.jpg
END:VEVENT
BEGIN:VEVENT
DTSTART;TZID=UTC:20161216T083000
DTEND;TZID=UTC:20161216T223000
DTSTAMP:20260419T185529
CREATED:20161215T083216Z
LAST-MODIFIED:20161215T083216Z
UID:484-1481877000-1481927400@www.prolocoairola.org
SUMMARY:Esibizioni - "Corale Parrocchiale di San Domenico" e "Coro di San Pasquale"
DESCRIPTION:Venerdì 16 dicembre 2016 Chiesa di San Domenico: \n\nOre 20\,30 – Esibizione Corale Parrocchiale di San Domenico\nOre 21\,30 – Esibizione Coro di San Pasquale\n\n“ADVENTUM – Villaggio di Natale” 2016
URL:https://www.prolocoairola.org/event/esibizioni-corale-parrocchiale-san-domenico-coro-san-pasquale/
LOCATION:Airola\, Piazza San Domenico\, Airola
CATEGORIES:Eventi Pro Loco
ATTACH;FMTTYPE=image/jpeg:https://www.prolocoairola.org/wp-content/uploads/2016/12/manifesto-corali-16-dicembre.jpg
END:VEVENT
BEGIN:VEVENT
DTSTART;TZID=UTC:20161116T080000
DTEND;TZID=UTC:20161116T170000
DTSTAMP:20260419T185529
CREATED:20161116T145233Z
LAST-MODIFIED:20161120T190521Z
UID:433-1479283200-1479315600@www.prolocoairola.org
SUMMARY:Le antiche ricette dei monasteri di Airola
DESCRIPTION:La Pro Loco di Airola in collaborazione con il Comune di Airola e il Rotary Club S. Agata de’ Goti organizza\, venerdì 18 novembre 2016 alle ore 17:00\, presso il Teatro Comunale di Airola (Largo Capone)\, l’evento “Dolci sapori della tradizione”. \nDurante la serata sarà diffuso il saggio “Dolcissima Airola all’ombra dei Chiostri e dei Monasteri” a cura dell’Assessore alla Cultura dott.ssa Angelina Capone. \nNel corso dell’evento\, moderato dal dott. Antonello Laudanna\, interverranno: Michele Napoletano\, Sindaco di Airola; la dott.ssa Angelina Capone\, assessore alla Cultura\, Arti e tradizioni popolari del Comune di Airola; la dott.ssa Giulia Abbate\, assessore al Comune di Airola e già consigliere regionale; il dott. Ettore Ruggiero\, presidente della Pro Loco; il prof. Enzo Napolitano\, giornalista de “Il Mattino”; il dott. Mario Gilardenghi\, presidente Rotary Club S. Agata de’ Goti; il Duca Giovanni Pignatelli della Leonessa;  il dott. Arturo Olibano. \nAlla serata parteciperanno gli attori Gabriella Petti e Doriano Rautnik nonchè Rama Music. \nIl saggio “Dolcissima Airola all’ombra dei Chiostri e dei Monasteri” propone alcune antiche ricette della tradizione culinaria di cui in parte si è persa memoria e che generosamente le comunità religiose dei Conventi e dei Monasteri di Airola hanno sperimentato e diffuso nel corso dei secoli passati. \nNel corso della manifestazione sarà anche possibile degustare alcuni dolci di antiche ricette preparati da professionisti della pasticceria.
URL:https://www.prolocoairola.org/event/le-antiche-ricette-dei-monasteri-di-airola/
CATEGORIES:Eventi Pro Loco
ATTACH;FMTTYPE=image/jpeg:https://www.prolocoairola.org/wp-content/uploads/2016/11/manifesto-3.jpg
END:VEVENT
BEGIN:VEVENT
DTSTART;TZID=UTC:20161109T080000
DTEND;TZID=UTC:20161109T170000
DTSTAMP:20260419T185529
CREATED:20161109T074622Z
LAST-MODIFIED:20161113T205642Z
UID:424-1478678400-1478710800@www.prolocoairola.org
SUMMARY:Presentazione del libro di Pietro Taddeo
DESCRIPTION:E’ stato presentato sabato 12 novembre alle ore 17\,30 nella sala consiliare di palazzo Montevergine\, sede del comune di Airola l’ultimo volume di poesie di Pietro Taddeo dal titolo “Si vis pacem… para pacem”. La serata è stata organizzata dalla Pro Loco di Airola con il patrocinio dell’amministrazione comunale e fa parte del ciclo di manifestazioni culturali “Incontri con l’autore”. Hanno partecipato: il sindaco di Airola\, Michele Napoletano; il presidente della Pro Loco\, dott. Ettore Ruggiero; la dott.ssa Angelina Capone\, assessore alla Cultura\, alle Arti e alle tradizioni popolari. Interventi: dott.ssa Rosetta Bove; prof.ssa Maria Pia Taddeo; letture di testi curate dalla dott.ssa Ramona Taddeo. Ha Moderato i lavori il dott. Enzo Napolitano\, giornalista del quotidiano “Il Mattino”. .\n“Si vis pacem… para pacem” offre uno spaccato vissuto dei sentimenti umani. La poesia di Pietro Taddeo\, in questo volume si presenta come un miraggio nella landa desertica dell’oggi\, una rivisitazione del dolore che si apre comunque alla speranza della vita\, senza mai negarlo fino in fondo.
URL:https://www.prolocoairola.org/event/presentazione-del-libro-di-pietro-taddeo/
CATEGORIES:Eventi Pro Loco
ATTACH;FMTTYPE=image/jpeg:https://www.prolocoairola.org/wp-content/uploads/2016/11/Immagine.jpg
END:VEVENT
BEGIN:VEVENT
DTSTART;TZID=UTC:20161030T173000
DTEND;TZID=UTC:20161030T190000
DTSTAMP:20260419T185529
CREATED:20161026T144003Z
LAST-MODIFIED:20161026T144217Z
UID:394-1477848600-1477854000@www.prolocoairola.org
SUMMARY:Presentazione del libro: Airola nel centenario della grande Guerra
DESCRIPTION:Domenica 30 ottobre 2016\, nella rassegna “Incontri con l’autore”\, organizzata dalla Pro Loco di Airola\,  presentazione del libro di Raffaele Caporuscio dal titolo “Airola nel centenario della grande Guerra” \n 
URL:https://www.prolocoairola.org/event/presentazione-del-libro-airola-nel-centenario-della-grande-guerra/
LOCATION:Sala Consiliare – Comune di Airola\, Via Matteotti\, Airola\, 82011\, Italia
CATEGORIES:Eventi Pro Loco
ATTACH;FMTTYPE=image/jpeg:https://www.prolocoairola.org/wp-content/uploads/2016/10/MANIFESTO-Raffaele-Caporuscio-copia.jpg
END:VEVENT
BEGIN:VEVENT
DTSTART;TZID=UTC:20160913T193000
DTEND;TZID=UTC:20160913T213000
DTSTAMP:20260419T185529
CREATED:20160909T200710Z
LAST-MODIFIED:20160913T115529Z
UID:354-1473795000-1473802200@www.prolocoairola.org
SUMMARY:Presentazione del libro “L’Amore è eterno finché non risponde”
DESCRIPTION:Nell’ambito della rassegna culturale “Incontri con l’Autore”\, organizzata dalla Pro Loco di Airola\, con il patrocinio dell’amministrazione comunale e dell’Unpli provinciale\, martedì 13 settembre 2016 alle ore 19:30\, nel Chiostro di Palazzo Montevergine\, sarà presentato il libro dal titolo: “L’Amore è eterno finché non risponde” di Ester Viola – EINAUDI Editore. \nDopo i saluti di Ettore Ruggiero\, presidente della Pro Loco di Airola; del sindaco\, Michele Napoletano e di Angelina Capone\, assessore comunale alla Cultura\, alle Arti e alle Tradizioni popolari\, seguirà l’incontro dell’autrice con i giornalisti: Giovanni Marro\, de “Il Caudino”; Enzo Napolitano de “Il Mattino” e Giuseppe Fortunato de “Il Sannio Quotidiano”. \nGli interventi saranno moderati da Arturo Olibano. \nNel corso dell’evento\, alcune pagine tratte dal libro saranno lette da Maria Gabriella Petti e Doriano Rautnik\, della Scuola di Teatro Paolo Petti. \nL’autrice Ester Viola\, avvocato matrimonialista\, racconta nel suo libro la storia di Olivia\, trentadue anni\, che di mestiere fa divorziare le persone e quotidianamente affronta la sciagura sentimentale fino ad arrivare a dividere i clienti in due categorie: i “lascianti” e i “lasciati”…. \n  \n  \nDopo la presentazione del libro\, Angela Votino\, in rappresentanza dell’Azienda vinicola “L’Oro di Bacco”\, presenterà agli ospiti un’eccellenza del nostro territorio\, il prodotto di un vitigno autoctono: il vino Falanghina. \nLe chiederemo di rivelarci i segreti del successo di questo magnifico vino. \nVi aspettiamo! \n  \n  \n  \n  \n.
URL:https://www.prolocoairola.org/event/presentazione-del-libro-lamore-e-eterno-finche-non-risponde/
LOCATION:Palazzo Montevergine\, Via Matteotti\, 10\, Airola\, 82011\, Italia
CATEGORIES:Eventi Pro Loco
ATTACH;FMTTYPE=image/jpeg:https://www.prolocoairola.org/wp-content/uploads/2016/09/Manifesto-Ester-Viola.jpg
END:VEVENT
BEGIN:VEVENT
DTSTART;TZID=UTC:20160911T180000
DTEND;TZID=UTC:20160911T193000
DTSTAMP:20260419T185529
CREATED:20160906T204620Z
LAST-MODIFIED:20170130T080216Z
UID:345-1473616800-1473622200@www.prolocoairola.org
SUMMARY:Convegno sul tema: "Migranti ed integrazione in Valle Caudina"
DESCRIPTION:La Pro Loco di Airola\, con il patrocinio del Comune\, dell’Unpli provinciale e dell’Associazione MANAR per l’Integrazione\, il giorno 11 settembre 2016 alle ore 18:00 presso la Sala Consiliare del Comune di Airola (BN)\, organizza un convegno sul tema: “Migranti ed Integrazione in Valle Caudina: il problema dell’accoglienza”; a seguire alle ore 19\,30 presso il “Centro di Ascolto e Orientamento per gli Immigrati Regolari” in via Lavatoio\, ci sarà l’apertura/inaugurazione della Mostra Fotografica di Gigino Nostrale\, professionista della fotografia artistica fin dal l972\, dal titolo “Mediterraneità: Tunisia” . \nAl Convegno sarà presente il Console della Repubblica di Tunisia a Napoli\, Nasreddine Boubakri che concluderà i lavori del convegno. \nInterverranno: Ettore Ruggiero\, Presidente della Pro Loco cittadina; Michele Napoletano\, Sindaco della Città di Airola; padre Pasquale Gravante\, Superiore della Comunità Passionista di Airola; Asmà Es-souni\, Presidente dell’Associazione Manar per l’integrazione. \nParteciperanno inoltre i Sindaci della Città Caudina e i ragazzi del Centro Damasco 13 di Airola che daranno testimonianza delle loro storie di vita vissuta. \nA moderare il convegno Enzo Napolitano giornalista de “Il Mattino”. \nLa Pro Loco di Airola ha voluto inserire in calendario questi due eventi per richiamare ulteriormente l’attenzione istituzionale e sociale sulle problematiche dell’integrazione. Il convegno vuole essere un momento di riflessione e sensibilizzazione su di un tema delicatissimo\, quale appunto l’accoglienza e l’integrazione degli immigrati. \nLo stesso Pontefice ha ricordato che nei confronti di migranti e rifugiati\, la Chiesa e le varie realtà ispirate ad essa devono “evitare il rischio del mero assistenzialismo\, per favorire l’autentica integrazione”. \nEcco alcune foto della serata:
URL:https://www.prolocoairola.org/event/convegno-sul-tema-migranti-ed-integrazione-in-valle-caudina/
LOCATION:Sala Consiliare – Comune di Airola\, Via Matteotti\, Airola\, 82011\, Italia
CATEGORIES:Eventi Pro Loco
ATTACH;FMTTYPE=image/jpeg:https://www.prolocoairola.org/wp-content/uploads/2016/09/MANIFESTO-CONVEGNO-per-WEB.jpg
END:VEVENT
END:VCALENDAR